BEGIN:VCALENDAR
VERSION:2.0
PRODID:-//JKA Berlin - ECPv6.15.20//NONSGML v1.0//EN
CALSCALE:GREGORIAN
METHOD:PUBLISH
X-ORIGINAL-URL:https://www.jka-berlin.de
X-WR-CALDESC:Veranstaltungen für JKA Berlin
REFRESH-INTERVAL;VALUE=DURATION:PT1H
X-Robots-Tag:noindex
X-PUBLISHED-TTL:PT1H
BEGIN:VTIMEZONE
TZID:Europe/Berlin
BEGIN:DAYLIGHT
TZOFFSETFROM:+0100
TZOFFSETTO:+0200
TZNAME:CEST
DTSTART:20250330T010000
END:DAYLIGHT
BEGIN:STANDARD
TZOFFSETFROM:+0200
TZOFFSETTO:+0100
TZNAME:CET
DTSTART:20251026T010000
END:STANDARD
BEGIN:DAYLIGHT
TZOFFSETFROM:+0100
TZOFFSETTO:+0200
TZNAME:CEST
DTSTART:20260329T010000
END:DAYLIGHT
BEGIN:STANDARD
TZOFFSETFROM:+0200
TZOFFSETTO:+0100
TZNAME:CET
DTSTART:20261025T010000
END:STANDARD
BEGIN:DAYLIGHT
TZOFFSETFROM:+0100
TZOFFSETTO:+0200
TZNAME:CEST
DTSTART:20270328T010000
END:DAYLIGHT
BEGIN:STANDARD
TZOFFSETFROM:+0200
TZOFFSETTO:+0100
TZNAME:CET
DTSTART:20271031T010000
END:STANDARD
END:VTIMEZONE
BEGIN:VEVENT
DTSTART;TZID=Europe/Berlin:20260627T100000
DTEND;TZID=Europe/Berlin:20260628T113000
DTSTAMP:20260420T164918
CREATED:20260210T084740Z
LAST-MODIFIED:20260210T084740Z
UID:3246-1782554400-1782646200@www.jka-berlin.de
SUMMARY:Brandenburger Sommerlager
DESCRIPTION:
URL:https://www.jka-berlin.de/event/brandenburger-sommerlager-7/
LOCATION:Basdorf\, Basdorf\, Brandenburg\, 16348\, Deutschland
ORGANIZER;CN="JKA Berlin":MAILTO:honbu@jka-berlin.de
END:VEVENT
END:VCALENDAR