BEGIN:VCALENDAR
VERSION:2.0
PRODID:-//JKA Berlin - ECPv6.15.20//NONSGML v1.0//EN
CALSCALE:GREGORIAN
METHOD:PUBLISH
X-ORIGINAL-URL:https://www.jka-berlin.de
X-WR-CALDESC:Veranstaltungen für JKA Berlin
REFRESH-INTERVAL;VALUE=DURATION:PT1H
X-Robots-Tag:noindex
X-PUBLISHED-TTL:PT1H
BEGIN:VTIMEZONE
TZID:Europe/Berlin
BEGIN:DAYLIGHT
TZOFFSETFROM:+0100
TZOFFSETTO:+0200
TZNAME:CEST
DTSTART:20250330T010000
END:DAYLIGHT
BEGIN:STANDARD
TZOFFSETFROM:+0200
TZOFFSETTO:+0100
TZNAME:CET
DTSTART:20251026T010000
END:STANDARD
BEGIN:DAYLIGHT
TZOFFSETFROM:+0100
TZOFFSETTO:+0200
TZNAME:CEST
DTSTART:20260329T010000
END:DAYLIGHT
BEGIN:STANDARD
TZOFFSETFROM:+0200
TZOFFSETTO:+0100
TZNAME:CET
DTSTART:20261025T010000
END:STANDARD
BEGIN:DAYLIGHT
TZOFFSETFROM:+0100
TZOFFSETTO:+0200
TZNAME:CEST
DTSTART:20270328T010000
END:DAYLIGHT
BEGIN:STANDARD
TZOFFSETFROM:+0200
TZOFFSETTO:+0100
TZNAME:CET
DTSTART:20271031T010000
END:STANDARD
END:VTIMEZONE
BEGIN:VEVENT
DTSTART;TZID=Europe/Berlin:20260918T190000
DTEND;TZID=Europe/Berlin:20260920T113000
DTSTAMP:20260420T193451
CREATED:20260210T085218Z
LAST-MODIFIED:20260210T085310Z
UID:3250-1789758000-1789903800@www.jka-berlin.de
SUMMARY:Autumn Camp mit Imura Sensei und Shiina Sensei
DESCRIPTION:
URL:https://www.jka-berlin.de/event/autumn-camp-mit-imura-sensei-und-shiina-sensei/
LOCATION:Berlin-Buch\, Ernst-Busch-Straße 27\, Berlin\, 13125\, Deutschland
ATTACH;FMTTYPE=image/png:https://www.jka-berlin.de/wp-content/uploads/2026/02/Bildschirmfoto-2026-02-04-um-13.23.35.png
ORGANIZER;CN="JKA Berlin":MAILTO:honbu@jka-berlin.de
END:VEVENT
END:VCALENDAR