BEGIN:VCALENDAR
VERSION:2.0
PRODID:-//JKA Berlin - ECPv6.15.20//NONSGML v1.0//EN
CALSCALE:GREGORIAN
METHOD:PUBLISH
X-WR-CALNAME:JKA Berlin
X-ORIGINAL-URL:https://www.jka-berlin.de
X-WR-CALDESC:Veranstaltungen für JKA Berlin
REFRESH-INTERVAL;VALUE=DURATION:PT1H
X-Robots-Tag:noindex
X-PUBLISHED-TTL:PT1H
BEGIN:VTIMEZONE
TZID:Europe/Berlin
BEGIN:DAYLIGHT
TZOFFSETFROM:+0100
TZOFFSETTO:+0200
TZNAME:CEST
DTSTART:20250330T010000
END:DAYLIGHT
BEGIN:STANDARD
TZOFFSETFROM:+0200
TZOFFSETTO:+0100
TZNAME:CET
DTSTART:20251026T010000
END:STANDARD
BEGIN:DAYLIGHT
TZOFFSETFROM:+0100
TZOFFSETTO:+0200
TZNAME:CEST
DTSTART:20260329T010000
END:DAYLIGHT
BEGIN:STANDARD
TZOFFSETFROM:+0200
TZOFFSETTO:+0100
TZNAME:CET
DTSTART:20261025T010000
END:STANDARD
BEGIN:DAYLIGHT
TZOFFSETFROM:+0100
TZOFFSETTO:+0200
TZNAME:CEST
DTSTART:20270328T010000
END:DAYLIGHT
BEGIN:STANDARD
TZOFFSETFROM:+0200
TZOFFSETTO:+0100
TZNAME:CET
DTSTART:20271031T010000
END:STANDARD
END:VTIMEZONE
BEGIN:VEVENT
DTSTART;TZID=Europe/Berlin:20260306T190000
DTEND;TZID=Europe/Berlin:20260306T203000
DTSTAMP:20260420T152451
CREATED:20260210T082514Z
LAST-MODIFIED:20260210T082514Z
UID:3231-1772823600-1772829000@www.jka-berlin.de
SUMMARY:Instruktorentraining
DESCRIPTION:
URL:https://www.jka-berlin.de/event/instruktorentraining/
LOCATION:Honbu Dojo LEIDENKAN
ORGANIZER;CN="JKA Berlin":MAILTO:honbu@jka-berlin.de
END:VEVENT
BEGIN:VEVENT
DTSTART;TZID=Europe/Berlin:20260307T100000
DTEND;TZID=Europe/Berlin:20260307T170000
DTSTAMP:20260420T152451
CREATED:20260210T082656Z
LAST-MODIFIED:20260216T203229Z
UID:3233-1772877600-1772902800@www.jka-berlin.de
SUMMARY:Spring Camp mit Ohta Sensei
DESCRIPTION:
URL:https://www.jka-berlin.de/event/winter-camp-mit-ohta-sensei/
LOCATION:Berlin-Buch\, Ernst-Busch-Straße 27\, Berlin\, 13125\, Deutschland
ATTACH;FMTTYPE=image/jpeg:https://www.jka-berlin.de/wp-content/uploads/2026/02/Ohta_Sensei.jpg
ORGANIZER;CN="JKA Berlin":MAILTO:honbu@jka-berlin.de
END:VEVENT
BEGIN:VEVENT
DTSTART;TZID=Europe/Berlin:20260308T100000
DTEND;TZID=Europe/Berlin:20260308T120000
DTSTAMP:20260420T152451
CREATED:20260210T082746Z
LAST-MODIFIED:20260210T082746Z
UID:3235-1772964000-1772971200@www.jka-berlin.de
SUMMARY:Kadertraining
DESCRIPTION:
URL:https://www.jka-berlin.de/event/kadertraining-6/
LOCATION:Honbu Dojo LEIDENKAN
ORGANIZER;CN="JKA Berlin":MAILTO:honbu@jka-berlin.de
END:VEVENT
END:VCALENDAR